BEGIN:VCALENDAR
PRODID:-//Microsoft Corporation//Outlook MIMEDIR//EN
VERSION:2.0
METHOD:PUBLISH
BEGIN:VEVENT
DTSTART:20260504T190000
DTEND:20260504T200000
DESCRIPTION:
LOCATION:City Hall - Council Chambers  4483 Pineview Drive Powder Springs, GA 30127
SUMMARY:City Council
CATEGORIES:MEETING
END:VEVENT
END:VCALENDAR
